BEGIN:VCALENDAR
VERSION:2.0
PRODID:-//Dederang Primary School - ECPv5.1.6//NONSGML v1.0//EN
CALSCALE:GREGORIAN
METHOD:PUBLISH
X-WR-CALNAME:Dederang Primary School
X-ORIGINAL-URL:https://www.dederang.vic.edu.au
X-WR-CALDESC:Events for Dederang Primary School
BEGIN:VTIMEZONE
TZID:Europe/Paris
BEGIN:DAYLIGHT
TZOFFSETFROM:+0100
TZOFFSETTO:+0200
TZNAME:CEST
DTSTART:20180325T010000
END:DAYLIGHT
BEGIN:STANDARD
TZOFFSETFROM:+0200
TZOFFSETTO:+0100
TZNAME:CET
DTSTART:20181028T010000
END:STANDARD
END:VTIMEZONE
BEGIN:VEVENT
DTSTART;TZID=Europe/Paris:20180219T123000
DTEND;TZID=Europe/Paris:20180219T133000
DTSTAMP:20210301T063550
CREATED:20180206T235601Z
LAST-MODIFIED:20180206T235601Z
UID:956-1519043400-1519047000@www.dederang.vic.edu.au
SUMMARY:Swimming #3
DESCRIPTION:Please note: Lunch orders are taken as usual on a swim Monday
URL:https://www.dederang.vic.edu.au/event/swimming-3/
CATEGORIES:Sports Events
END:VEVENT
END:VCALENDAR